BEGIN:VCALENDAR
VERSION:2.0
PRODID:-//Formazione - ECPv5.3.1//NONSGML v1.0//EN
CALSCALE:GREGORIAN
METHOD:PUBLISH
X-WR-CALNAME:Formazione
X-ORIGINAL-URL:https://formazione.ediliziainrete.it
X-WR-CALDESC:Eventi per Formazione
BEGIN:VTIMEZONE
TZID:Europe/Paris
BEGIN:DAYLIGHT
TZOFFSETFROM:+0100
TZOFFSETTO:+0200
TZNAME:CEST
DTSTART:20200329T010000
END:DAYLIGHT
BEGIN:STANDARD
TZOFFSETFROM:+0200
TZOFFSETTO:+0100
TZNAME:CET
DTSTART:20201025T010000
END:STANDARD
END:VTIMEZONE
BEGIN:VEVENT
DTSTART;TZID=Europe/Paris:20201006T093000
DTEND;TZID=Europe/Paris:20201006T113000
DTSTAMP:20260421T050642
CREATED:20200916T081515Z
LAST-MODIFIED:20200916T081515Z
UID:155-1601976600-1601983800@formazione.ediliziainrete.it
SUMMARY:Bonus 110%\, Conto Termico e Detrazioni fiscali.
DESCRIPTION:
URL:https://formazione.ediliziainrete.it/event/bonus-110-conto-termico-e-detrazioni-fiscali/
CATEGORIES:Normativa
END:VEVENT
END:VCALENDAR