BEGIN:VCALENDAR
VERSION:2.0
PRODID:-//Formazione - ECPv5.3.1//NONSGML v1.0//EN
CALSCALE:GREGORIAN
METHOD:PUBLISH
X-WR-CALNAME:Formazione
X-ORIGINAL-URL:https://formazione.ediliziainrete.it
X-WR-CALDESC:Eventi per Formazione
BEGIN:VTIMEZONE
TZID:Europe/Paris
BEGIN:DAYLIGHT
TZOFFSETFROM:+0100
TZOFFSETTO:+0200
TZNAME:CEST
DTSTART:20210328T010000
END:DAYLIGHT
BEGIN:STANDARD
TZOFFSETFROM:+0200
TZOFFSETTO:+0100
TZNAME:CET
DTSTART:20211031T010000
END:STANDARD
END:VTIMEZONE
BEGIN:VEVENT
DTSTART;TZID=Europe/Paris:20210128T150000
DTEND;TZID=Europe/Paris:20210128T163000
DTSTAMP:20260420T173107
CREATED:20210125T143536Z
LAST-MODIFIED:20210125T144514Z
UID:195-1611846000-1611851400@formazione.ediliziainrete.it
SUMMARY:Il futuro dell’Italia passa per la sostenibilità delle infrastrutture
DESCRIPTION:
URL:https://formazione.ediliziainrete.it/event/il-futuro-dellitalia-passa-per-la-sostenibilita-delle-infrastrutture/
CATEGORIES:Progettazione
END:VEVENT
END:VCALENDAR