BEGIN:VCALENDAR
VERSION:2.0
PRODID:-//Formazione - ECPv5.3.1//NONSGML v1.0//EN
CALSCALE:GREGORIAN
METHOD:PUBLISH
X-WR-CALNAME:Formazione
X-ORIGINAL-URL:https://formazione.ediliziainrete.it
X-WR-CALDESC:Eventi per Formazione
BEGIN:VTIMEZONE
TZID:Europe/Paris
BEGIN:DAYLIGHT
TZOFFSETFROM:+0100
TZOFFSETTO:+0200
TZNAME:CEST
DTSTART:20200329T010000
END:DAYLIGHT
BEGIN:STANDARD
TZOFFSETFROM:+0200
TZOFFSETTO:+0100
TZNAME:CET
DTSTART:20201025T010000
END:STANDARD
END:VTIMEZONE
BEGIN:VEVENT
DTSTART;TZID=Europe/Paris:20201007T130000
DTEND;TZID=Europe/Paris:20201008T130000
DTSTAMP:20260421T053346
CREATED:20200915T143818Z
LAST-MODIFIED:20200915T143818Z
UID:141-1602075600-1602162000@formazione.ediliziainrete.it
SUMMARY:L'Oro Blu - La gestione della risorsa idrica negli edifici
DESCRIPTION:
URL:https://formazione.ediliziainrete.it/event/loro-blu-la-gestione-della-risorsa-idrica-negli-edifici/
CATEGORIES:Progettazione
END:VEVENT
END:VCALENDAR