BEGIN:VCALENDAR
VERSION:2.0
PRODID:-//Formazione - ECPv5.3.1//NONSGML v1.0//EN
CALSCALE:GREGORIAN
METHOD:PUBLISH
X-WR-CALNAME:Formazione
X-ORIGINAL-URL:https://formazione.ediliziainrete.it
X-WR-CALDESC:Eventi per Formazione
BEGIN:VTIMEZONE
TZID:Europe/Paris
BEGIN:DAYLIGHT
TZOFFSETFROM:+0100
TZOFFSETTO:+0200
TZNAME:CEST
DTSTART:20200329T010000
END:DAYLIGHT
BEGIN:STANDARD
TZOFFSETFROM:+0200
TZOFFSETTO:+0100
TZNAME:CET
DTSTART:20201025T010000
END:STANDARD
END:VTIMEZONE
BEGIN:VEVENT
DTSTART;TZID=Europe/Paris:20200921T160000
DTEND;TZID=Europe/Paris:20200921T190000
DTSTAMP:20260420T192415
CREATED:20200915T124555Z
LAST-MODIFIED:20200915T124555Z
UID:124-1600704000-1600714800@formazione.ediliziainrete.it
SUMMARY:Sistemi impermeabili continui a regola d'arte
DESCRIPTION:
URL:https://formazione.ediliziainrete.it/event/sistemi-impermeabili-continui-a-regola-darte-3/
CATEGORIES:Prodotti/Applicazioni
END:VEVENT
END:VCALENDAR