BEGIN:VCALENDAR
VERSION:2.0
PRODID:-//Formazione - ECPv5.3.1//NONSGML v1.0//EN
CALSCALE:GREGORIAN
METHOD:PUBLISH
X-WR-CALNAME:Formazione
X-ORIGINAL-URL:https://formazione.ediliziainrete.it
X-WR-CALDESC:Eventi per Formazione
BEGIN:VTIMEZONE
TZID:Europe/Paris
BEGIN:DAYLIGHT
TZOFFSETFROM:+0100
TZOFFSETTO:+0200
TZNAME:CEST
DTSTART:20210328T010000
END:DAYLIGHT
BEGIN:STANDARD
TZOFFSETFROM:+0200
TZOFFSETTO:+0100
TZNAME:CET
DTSTART:20211031T010000
END:STANDARD
END:VTIMEZONE
BEGIN:VEVENT
DTSTART;TZID=Europe/Paris:20210414T110000
DTEND;TZID=Europe/Paris:20210414T120000
DTSTAMP:20260422T104624
CREATED:20210408T080628Z
LAST-MODIFIED:20210408T085435Z
UID:218-1618398000-1618401600@formazione.ediliziainrete.it
SUMMARY:Come i colori influenzano noi e l'interior design
DESCRIPTION:
URL:https://formazione.ediliziainrete.it/event/webinar-come-i-colori-influenzano-noi-e-linterior-design/
CATEGORIES:Prodotti/Applicazioni
END:VEVENT
BEGIN:VEVENT
DTSTART;TZID=Europe/Paris:20210414T170000
DTEND;TZID=Europe/Paris:20210414T170000
DTSTAMP:20260422T104624
CREATED:20210329T072209Z
LAST-MODIFIED:20210329T072209Z
UID:203-1618419600-1618419600@formazione.ediliziainrete.it
SUMMARY:Coperture impermeabili continue con manti sintetici\, principali riferimenti normativi e campi di impiego
DESCRIPTION:
URL:https://formazione.ediliziainrete.it/event/coperture-impermeabili-continue-con-manti-sintetici-principali-riferimenti-normativi-e-campi-di-impiego/
END:VEVENT
BEGIN:VEVENT
DTSTART;TZID=Europe/Paris:20210420T170000
DTEND;TZID=Europe/Paris:20210420T180000
DTSTAMP:20260422T104624
CREATED:20210329T072705Z
LAST-MODIFIED:20210329T072705Z
UID:205-1618938000-1618941600@formazione.ediliziainrete.it
SUMMARY:Sistemi impermeabili continui: la regola dell’arte per il progettista e la gestione del cantiere\, nuove opere e rifacimenti
DESCRIPTION:
URL:https://formazione.ediliziainrete.it/event/sistemi-impermeabili-continui-la-regola-dellarte-per-il-progettista-e-la-gestione-del-cantiere-nuove-opere-e-rifacimenti/
CATEGORIES:Prodotti/Applicazioni
END:VEVENT
BEGIN:VEVENT
DTSTART;TZID=Europe/Paris:20210428T170000
DTEND;TZID=Europe/Paris:20210428T170000
DTSTAMP:20260422T104624
CREATED:20210329T072823Z
LAST-MODIFIED:20210329T072823Z
UID:207-1619629200-1619629200@formazione.ediliziainrete.it
SUMMARY:Composizione di una stratigrafia impermeabile: norma UNI 8178\, esempi e destinazioni d’uso
DESCRIPTION:
URL:https://formazione.ediliziainrete.it/event/composizione-di-una-stratigrafia-impermeabile-norma-uni-8178-esempi-e-destinazioni-duso/
CATEGORIES:Prodotti/Applicazioni
END:VEVENT
END:VCALENDAR