BEGIN:VCALENDAR
VERSION:2.0
PRODID:-//Formazione - ECPv5.3.1//NONSGML v1.0//EN
CALSCALE:GREGORIAN
METHOD:PUBLISH
X-WR-CALNAME:Formazione
X-ORIGINAL-URL:https://formazione.ediliziainrete.it
X-WR-CALDESC:Eventi per Formazione
BEGIN:VTIMEZONE
TZID:Europe/Paris
BEGIN:DAYLIGHT
TZOFFSETFROM:+0100
TZOFFSETTO:+0200
TZNAME:CEST
DTSTART:20210328T010000
END:DAYLIGHT
BEGIN:STANDARD
TZOFFSETFROM:+0200
TZOFFSETTO:+0100
TZNAME:CET
DTSTART:20211031T010000
END:STANDARD
END:VTIMEZONE
BEGIN:VEVENT
DTSTART;TZID=Europe/Paris:20210609T170000
DTEND;TZID=Europe/Paris:20210609T170000
DTSTAMP:20260422T073953
CREATED:20210329T073138Z
LAST-MODIFIED:20210329T073138Z
UID:214-1623258000-1623258000@formazione.ediliziainrete.it
SUMMARY:Ripristino e rifacimento di una copertura
DESCRIPTION:
URL:https://formazione.ediliziainrete.it/event/ripristino-e-rifacimento-di-una-copertura/
CATEGORIES:Prodotti/Applicazioni
END:VEVENT
END:VCALENDAR